BEGIN:VCALENDAR
VERSION:2.0
PRODID:-//Autograf//Djoin//NO
METHOD:PUBLISH
BEGIN:VTIMEZONE
TZID:Europe/Oslo
BEGIN:DAYLIGHT
TZOFFSETFROM:+0100
RRULE:FREQ=YEARLY;BYMONTH=3;BYDAY=-1SU
DTSTART:19810329T020000
TZNAME:CEST
TZOFFSETTO:+0200
END:DAYLIGHT
BEGIN:STANDARD
TZOFFSETFROM:+0200
RRULE:FREQ=YEARLY;BYMONTH=10;BYDAY=-1SU
DTSTART:19961027T030000
TZNAME:CET
TZOFFSETTO:+0100
END:STANDARD
END:VTIMEZONE
BEGIN:VEVENT
UID:e06c9499b7bcf6937ce44917333f1a63
DTSTAMP:20260424T222511Z
DTSTART;VALUE=DATE:20260605
DTEND;VALUE=DATE:20260608
URL:https://www.hordalandsspeiderne.no/aktivitet/2240
SUMMARY:Førerpatruljetur til Kvamsøy
LOCATION:Bergen busstasjon
END:VEVENT
END:VCALENDAR